BEGIN:VCALENDAR
VERSION:2.0
PRODID:-//KP LAS PUSZCZYKOWO - ECPv6.15.20//NONSGML v1.0//EN
CALSCALE:GREGORIAN
METHOD:PUBLISH
X-ORIGINAL-URL:https://laspuszczykowo.com
X-WR-CALDESC:Wydarzenia dla KP LAS PUSZCZYKOWO
REFRESH-INTERVAL;VALUE=DURATION:PT1H
X-Robots-Tag:noindex
X-PUBLISHED-TTL:PT1H
BEGIN:VTIMEZONE
TZID:UTC
BEGIN:STANDARD
TZOFFSETFROM:+0000
TZOFFSETTO:+0000
TZNAME:UTC
DTSTART:20250101T000000
END:STANDARD
END:VTIMEZONE
BEGIN:VTIMEZONE
TZID:Europe/Warsaw
BEGIN:DAYLIGHT
TZOFFSETFROM:+0100
TZOFFSETTO:+0200
TZNAME:CEST
DTSTART:20250330T010000
END:DAYLIGHT
BEGIN:STANDARD
TZOFFSETFROM:+0200
TZOFFSETTO:+0100
TZNAME:CET
DTSTART:20251026T010000
END:STANDARD
BEGIN:DAYLIGHT
TZOFFSETFROM:+0100
TZOFFSETTO:+0200
TZNAME:CEST
DTSTART:20260329T010000
END:DAYLIGHT
BEGIN:STANDARD
TZOFFSETFROM:+0200
TZOFFSETTO:+0100
TZNAME:CET
DTSTART:20261025T010000
END:STANDARD
BEGIN:DAYLIGHT
TZOFFSETFROM:+0100
TZOFFSETTO:+0200
TZNAME:CEST
DTSTART:20270328T010000
END:DAYLIGHT
BEGIN:STANDARD
TZOFFSETFROM:+0200
TZOFFSETTO:+0100
TZNAME:CET
DTSTART:20271031T010000
END:STANDARD
END:VTIMEZONE
BEGIN:VEVENT
DTSTART;TZID=UTC:20260212T190000
DTEND;TZID=UTC:20260212T203000
DTSTAMP:20260420T025725
CREATED:20220507T155431Z
LAST-MODIFIED:20260115T132448Z
UID:31565-1770922800-1770928200@laspuszczykowo.com
SUMMARY:Las Puszczykowo - Okoń Skrzynki
DESCRIPTION:
URL:https://laspuszczykowo.com/wydarzenie/atleticos-salford-rangers/
LOCATION:Stadion Miejski w Puszczykowie\, Kościelna 13\, Puszczykowo\, Wielkopolskie\, 62-040\, Poland
CATEGORIES:Sparing
END:VEVENT
BEGIN:VEVENT
DTSTART;TZID=UTC:20260219T190000
DTEND;TZID=UTC:20260219T203000
DTSTAMP:20260420T025725
CREATED:20240313T193706Z
LAST-MODIFIED:20260115T132512Z
UID:36703-1771527600-1771533000@laspuszczykowo.com
SUMMARY:Las Puszczykowo - Polonia Poznań
DESCRIPTION:
URL:https://laspuszczykowo.com/wydarzenie/real-madrid-barcelona-la-liga/
LOCATION:Stadion Miejski w Puszczykowie\, Kościelna 13\, Puszczykowo\, Wielkopolskie\, 62-040\, Poland
CATEGORIES:Sparing
END:VEVENT
BEGIN:VEVENT
DTSTART;TZID=UTC:20260226T190000
DTEND;TZID=UTC:20260226T203000
DTSTAMP:20260420T025725
CREATED:20220512T155952Z
LAST-MODIFIED:20260115T132540Z
UID:31569-1772132400-1772137800@laspuszczykowo.com
SUMMARY:Las Puszczykowo - Orkan Konarzewo
DESCRIPTION:
URL:https://laspuszczykowo.com/wydarzenie/ailton-fc-atleticos/
LOCATION:Stadion Miejski w Puszczykowie\, Kościelna 13\, Puszczykowo\, Wielkopolskie\, 62-040\, Poland
CATEGORIES:Sparing
END:VEVENT
BEGIN:VEVENT
DTSTART;TZID=UTC:20260305T190000
DTEND;TZID=UTC:20260305T203000
DTSTAMP:20260420T025725
CREATED:20240313T193727Z
LAST-MODIFIED:20260115T132717Z
UID:36704-1772737200-1772742600@laspuszczykowo.com
SUMMARY:Las Puszczykowo - Kotwica II Kórnik
DESCRIPTION:
URL:https://laspuszczykowo.com/wydarzenie/juventus-porto-champions-league/
LOCATION:Stadion Miejski w Puszczykowie\, Kościelna 13\, Puszczykowo\, Wielkopolskie\, 62-040\, Poland
CATEGORIES:Sparing
END:VEVENT
BEGIN:VEVENT
DTSTART;TZID=UTC:20260312T190000
DTEND;TZID=UTC:20260312T203000
DTSTAMP:20260420T025725
CREATED:20220512T160015Z
LAST-MODIFIED:20260115T132741Z
UID:31571-1773342000-1773347400@laspuszczykowo.com
SUMMARY:Las Puszczykowo - Stella II Luboń
DESCRIPTION:
URL:https://laspuszczykowo.com/wydarzenie/fc-spartans-crimson-city/
LOCATION:Stadion Miejski w Puszczykowie\, Kościelna 13\, Puszczykowo\, Wielkopolskie\, 62-040\, Poland
CATEGORIES:Sparing
END:VEVENT
BEGIN:VEVENT
DTSTART;TZID=UTC:20260319T190000
DTEND;TZID=UTC:20260319T203000
DTSTAMP:20260420T025725
CREATED:20240313T193415Z
LAST-MODIFIED:20260318T120836Z
UID:36705-1773946800-1773952200@laspuszczykowo.com
SUMMARY:Las Puszczykowo - AP Talenty Poznań
DESCRIPTION:
URL:https://laspuszczykowo.com/wydarzenie/ailton-fc-riverside-rovers-2/
LOCATION:Stadion Miejski w Puszczykowie\, Kościelna 13\, Puszczykowo\, Wielkopolskie\, 62-040\, Poland
CATEGORIES:Sparing
END:VEVENT
BEGIN:VEVENT
DTSTART;TZID=Europe/Warsaw:20260320T184500
DTEND;TZID=Europe/Warsaw:20260320T210000
DTSTAMP:20260420T025725
CREATED:20260318T120735Z
LAST-MODIFIED:20260318T120735Z
UID:43399-1774032300-1774040400@laspuszczykowo.com
SUMMARY:Las Puszczykowo - Olympique Poznań
DESCRIPTION:
URL:https://laspuszczykowo.com/wydarzenie/las-puszczykowo-olympique-poznan/
LOCATION:Stadion Miejski w Puszczykowie\, Kościelna 13\, Puszczykowo\, Wielkopolskie\, 62-040\, Poland
CATEGORIES:Akademia
END:VEVENT
BEGIN:VEVENT
DTSTART;TZID=Europe/Warsaw:20260322T190000
DTEND;TZID=Europe/Warsaw:20260322T210000
DTSTAMP:20260420T025725
CREATED:20260318T122510Z
LAST-MODIFIED:20260318T122510Z
UID:43416-1774206000-1774213200@laspuszczykowo.com
SUMMARY:Las Puszczykowo - Orkan Konarzewo
DESCRIPTION:
URL:https://laspuszczykowo.com/wydarzenie/las-puszczykowo-orkan-konarzewo/
LOCATION:Stadion Miejski w Puszczykowie\, Kościelna 13\, Puszczykowo\, Wielkopolskie\, 62-040\, Poland
CATEGORIES:Akademia
END:VEVENT
BEGIN:VEVENT
DTSTART;TZID=Europe/Warsaw:20260328T160000
DTEND;TZID=Europe/Warsaw:20260328T180000
DTSTAMP:20260420T025725
CREATED:20260318T121042Z
LAST-MODIFIED:20260318T121042Z
UID:43401-1774713600-1774720800@laspuszczykowo.com
SUMMARY:Las Puszczykowo - Lotnik 1997 Poznań
DESCRIPTION:
URL:https://laspuszczykowo.com/wydarzenie/las-puszczykowo-lotnik-1997-poznan/
LOCATION:Stadion Miejski w Puszczykowie\, Kościelna 13\, Puszczykowo\, Wielkopolskie\, 62-040\, Poland
CATEGORIES:Klasa A
END:VEVENT
BEGIN:VEVENT
DTSTART;TZID=Europe/Warsaw:20260329T140000
DTEND;TZID=Europe/Warsaw:20260329T160000
DTSTAMP:20260420T025725
CREATED:20260318T122836Z
LAST-MODIFIED:20260318T122836Z
UID:43418-1774792800-1774800000@laspuszczykowo.com
SUMMARY:Gwiazda Siedlec - Las Puszczykowo
DESCRIPTION:
URL:https://laspuszczykowo.com/wydarzenie/gwiazda-siedlec-las-puszczykowo/
LOCATION:Stadion Piłkarski w Siedlcu\, Leśna 20\, Siedlec\, Poland
CATEGORIES:Akademia
END:VEVENT
BEGIN:VEVENT
DTSTART;TZID=Europe/Warsaw:20260330T190000
DTEND;TZID=Europe/Warsaw:20260330T210000
DTSTAMP:20260420T025725
CREATED:20260318T123116Z
LAST-MODIFIED:20260318T123116Z
UID:43421-1774897200-1774904400@laspuszczykowo.com
SUMMARY:Las Puszczykowo - SP Gol Środa Wielkpolska
DESCRIPTION:
URL:https://laspuszczykowo.com/wydarzenie/las-puszczykowo-sp-gol-sroda-wielkpolska/
LOCATION:Stadion Miejski w Puszczykowie\, Kościelna 13\, Puszczykowo\, Wielkopolskie\, 62-040\, Poland
CATEGORIES:Akademia
END:VEVENT
BEGIN:VEVENT
DTSTART;TZID=Europe/Warsaw:20260404T110000
DTEND;TZID=Europe/Warsaw:20260404T130000
DTSTAMP:20260420T025725
CREATED:20260329T174437Z
LAST-MODIFIED:20260407T144134Z
UID:43983-1775300400-1775307600@laspuszczykowo.com
SUMMARY:Poznań FC - Las Puszczykowo
DESCRIPTION:
URL:https://laspuszczykowo.com/wydarzenie/koziolek-poznan-las-puszczykowo/
LOCATION:Vemat Arena\, Wandy Modlibowskiej\, Poznań\, Wandy Modlibowskiej\, Poznań\, Wielkopolskie\, 62-040\, Poland
CATEGORIES:Klasa A
END:VEVENT
BEGIN:VEVENT
DTSTART;TZID=Europe/Warsaw:20260411T160000
DTEND;TZID=Europe/Warsaw:20260411T180000
DTSTAMP:20260420T025725
CREATED:20260318T121258Z
LAST-MODIFIED:20260318T121456Z
UID:43403-1775923200-1775930400@laspuszczykowo.com
SUMMARY:Las Puszczykowo - Sokół Duszniki
DESCRIPTION:
URL:https://laspuszczykowo.com/wydarzenie/poznan-fc-las-puszczykowo/
LOCATION:Stadion Miejski w Puszczykowie\, Kościelna 13\, Puszczykowo\, Wielkopolskie\, 62-040\, Poland
CATEGORIES:Klasa A
END:VEVENT
BEGIN:VEVENT
DTSTART;TZID=Europe/Warsaw:20260418T160000
DTEND;TZID=Europe/Warsaw:20260418T180000
DTSTAMP:20260420T025725
CREATED:20260318T121424Z
LAST-MODIFIED:20260318T121442Z
UID:43406-1776528000-1776535200@laspuszczykowo.com
SUMMARY:Las Puszczykowo - Orły Pniewy
DESCRIPTION:
URL:https://laspuszczykowo.com/wydarzenie/las-puszczykowo-orly-pniewy/
LOCATION:Stadion Miejski w Puszczykowie\, Kościelna 13\, Puszczykowo\, Wielkopolskie\, 62-040\, Poland
CATEGORIES:Klasa A
END:VEVENT
BEGIN:VEVENT
DTSTART;TZID=Europe/Warsaw:20260426T160000
DTEND;TZID=Europe/Warsaw:20260426T180000
DTSTAMP:20260420T025725
CREATED:20260417T182207Z
LAST-MODIFIED:20260417T182207Z
UID:44402-1777219200-1777226400@laspuszczykowo.com
SUMMARY:Koziołek Poznań - Las Puszczykowo
DESCRIPTION:
URL:https://laspuszczykowo.com/wydarzenie/koziolek-poznan-las-puszczykowo-2/
LOCATION:Stadion POSiR Gdańska\, Poznań\, Gdańska\, Poznań\, Wielkopolskie
CATEGORIES:Klasa A
END:VEVENT
BEGIN:VEVENT
DTSTART;TZID=Europe/Warsaw:20260502T160000
DTEND;TZID=Europe/Warsaw:20260502T180000
DTSTAMP:20260420T025725
CREATED:20260318T121626Z
LAST-MODIFIED:20260318T121626Z
UID:43408-1777737600-1777744800@laspuszczykowo.com
SUMMARY:Las Puszczykowo - Suchary Suchy Las
DESCRIPTION:
URL:https://laspuszczykowo.com/wydarzenie/las-puszczykowo-suchary-suchy-las/
LOCATION:Stadion Miejski w Puszczykowie\, Kościelna 13\, Puszczykowo\, Wielkopolskie\, 62-040\, Poland
CATEGORIES:Klasa A
END:VEVENT
BEGIN:VEVENT
DTSTART;TZID=Europe/Warsaw:20260509T000000
DTEND;TZID=Europe/Warsaw:20260509T000000
DTSTAMP:20260420T025725
CREATED:20260417T183759Z
LAST-MODIFIED:20260417T183759Z
UID:44414-1778284800-1778284800@laspuszczykowo.com
SUMMARY:Czarni Kaźmierz - Las Puszczykowo
DESCRIPTION:
URL:https://laspuszczykowo.com/wydarzenie/czarni-kazmierz-las-puszczykowo/
LOCATION:Stadion Miejski w Kaźmierzu
CATEGORIES:Klasa A
END:VEVENT
BEGIN:VEVENT
DTSTART;TZID=Europe/Warsaw:20260516T160000
DTEND;TZID=Europe/Warsaw:20260516T180000
DTSTAMP:20260420T025725
CREATED:20260318T121748Z
LAST-MODIFIED:20260318T121748Z
UID:43410-1778947200-1778954400@laspuszczykowo.com
SUMMARY:Las Puszczykowo - KS Sękowo
DESCRIPTION:
URL:https://laspuszczykowo.com/wydarzenie/las-puszczykowo-ks-sekowo/
LOCATION:Stadion Miejski w Puszczykowie\, Kościelna 13\, Puszczykowo\, Wielkopolskie\, 62-040\, Poland
CATEGORIES:Klasa A
END:VEVENT
BEGIN:VEVENT
DTSTART;TZID=Europe/Warsaw:20260523T000000
DTEND;TZID=Europe/Warsaw:20260523T000000
DTSTAMP:20260420T025725
CREATED:20260417T183459Z
LAST-MODIFIED:20260417T183544Z
UID:44411-1779494400-1779494400@laspuszczykowo.com
SUMMARY:Oldboys Pluton Sady - Las Puszczykowo
DESCRIPTION:
URL:https://laspuszczykowo.com/wydarzenie/oldboys-pluton-sady-las-puszczykowo/
LOCATION:Stadion Miejski w Sadach\, Poprzeczna 10\, Sady\, Wielkopolskie\, Poland
CATEGORIES:Klasa A
END:VEVENT
BEGIN:VEVENT
DTSTART;TZID=Europe/Warsaw:20260530T160000
DTEND;TZID=Europe/Warsaw:20260530T180000
DTSTAMP:20260420T025725
CREATED:20260318T122000Z
LAST-MODIFIED:20260318T122000Z
UID:43412-1780156800-1780164000@laspuszczykowo.com
SUMMARY:Las Puszczykowo - Huragan Michorzewo
DESCRIPTION:
URL:https://laspuszczykowo.com/wydarzenie/las-puszczykowo-huragan-michorzewo/
LOCATION:Stadion Miejski w Puszczykowie\, Kościelna 13\, Puszczykowo\, Wielkopolskie\, 62-040\, Poland
CATEGORIES:Klasa A
END:VEVENT
BEGIN:VEVENT
DTSTART;TZID=Europe/Warsaw:20260607T120000
DTEND;TZID=Europe/Warsaw:20260607T140000
DTSTAMP:20260420T025725
CREATED:20260417T183240Z
LAST-MODIFIED:20260417T183240Z
UID:44408-1780833600-1780840800@laspuszczykowo.com
SUMMARY:Rokita Rokietnica - Las Puszczykowo
DESCRIPTION:
URL:https://laspuszczykowo.com/wydarzenie/rokita-rokietnica-las-puszczykowo/
LOCATION:Stadion Miejski w Rokietnicy\, Trakt Napoleoński 16\, Rokietnica\, Wielkopolskie
CATEGORIES:Klasa A
END:VEVENT
BEGIN:VEVENT
DTSTART;TZID=Europe/Warsaw:20260613T160000
DTEND;TZID=Europe/Warsaw:20260613T180000
DTSTAMP:20260420T025725
CREATED:20260318T122105Z
LAST-MODIFIED:20260318T122105Z
UID:43414-1781366400-1781373600@laspuszczykowo.com
SUMMARY:Las Puszczykowo - AP OSiR Lwówek
DESCRIPTION:
URL:https://laspuszczykowo.com/wydarzenie/las-puszczykowo-ap-osir-lwowek/
LOCATION:Stadion Miejski w Puszczykowie\, Kościelna 13\, Puszczykowo\, Wielkopolskie\, 62-040\, Poland
CATEGORIES:Klasa A
END:VEVENT
BEGIN:VEVENT
DTSTART;TZID=Europe/Warsaw:20260620T170000
DTEND;TZID=Europe/Warsaw:20260620T190000
DTSTAMP:20260420T025725
CREATED:20260417T182940Z
LAST-MODIFIED:20260417T182940Z
UID:44405-1781974800-1781982000@laspuszczykowo.com
SUMMARY:Orkan Objezierze - Las Puszczykowo
DESCRIPTION:
URL:https://laspuszczykowo.com/wydarzenie/orkan-objezierze-las-puszczykowo/
LOCATION:Stadion Miejski w Objezierzu\, Objezierze 48\, Oborniki Wielkopolskie\, Wielkopolskie\, Poland
CATEGORIES:Klasa A
END:VEVENT
END:VCALENDAR